Workbook

Sheet REMITO
A1: NUMERO DE NC | B1: NOMBRE CLIENTE | C1: FONO 01 | D1: DIRECCION | E1: DISTRITO | F1: PROVINCIA | G1: DEPARTAMENTO | H1: DESCRIPCION PRODUCTO | I1: CANTIDAD RECOGER | J1: OBS | K1: n° Cuenta | L1: RUC | M1: DOC
A2: =DATA!F2 -> 6950100 | B2: =CONCATENATE(DATA!P2," / ",DATA!T2) -> MARLEN PILAR ALVAREZ BRANDO DE TOPOVICH / 988756200 | C2: =DATA!T2 -> 988756200 | D2: =DATA!Y2 -> Avenida cangallo, 779 - Barrios altos | E2: =DATA!X2 -> CERCADO DE LIMA | F2: =DATA!W2 -> LIMA | G2: =DATA!V2 -> LIMA | H2: =_xlfn.IFS(DATA!CB2="CAJA SELLADA","SI EL PEDIDO ESTA ABIERTO - NO SE RECOGE",DATA!CB2="CAJA ABIERTA CON GUIA DE REMISION","PRODUCTOS A RECOGER DEBEN COINCIDIR CON LA BOLETA",DATA!CB2="CAJA ABIERTA E INCOMPLETA","TOMAR FOTO DE TODO LO QUE SE RECOGE",DATA!CB2="CAJA ABIERTA - NO COINCIDE CON BOLETA","SI LA CANTIDAD DE ITEMS NO COINCIDE - NO SE RECOGE",DATA!CB2="CAJA ABIERTA Y SIN ETIQUETA","SI LOS PRODUCTOS NO COINCIDEN CON LA BOLETA NO SE RECOGE") -> SI EL PEDIDO ESTA ABIERTO - NO SE RECOGE | I2: =DATA!K2 -> 1 | J2: =CONCATENATE("L. INVERSA - ",DATA!CB2, " - RECOGER PEDIDO: ",K2," - NC: ",L2) -> L. INVERSA - CAJA SELLADA - RECOGER PEDIDO: 45390848 - NC: 6950100 | K2: =DATA!H2 -> 45390848 | L2: =A2 -> 6950100 | M2: =A2 -> 6950100
A3: =DATA!F3 -> 6950161 | B3: =CONCATENATE(DATA!P3," / ",DATA!T3) -> BLANCA MARÍA TURRIATE SANCHEZ / 983574604 | C3: =DATA!T3 -> 983574604 | D3: =DATA!Y3 -> Avenida cangallo, 779 - Barrios altos | E3: =DATA!X3 -> CERCADO DE LIMA | F3: =DATA!W3 -> LIMA | G3: =DATA!V3 -> LIMA | H3: =_xlfn.IFS(DATA!CB3="CAJA SELLADA","SI EL PEDIDO ESTA ABIERTO - NO SE RECOGE",DATA!CB3="CAJA ABIERTA CON GUIA DE REMISION","PRODUCTOS A RECOGER DEBEN COINCIDIR CON LA BOLETA",DATA!CB3="CAJA ABIERTA E INCOMPLETA","TOMAR FOTO DE TODO LO QUE SE RECOGE",DATA!CB3="CAJA ABIERTA - NO COINCIDE CON BOLETA","SI LA CANTIDAD DE ITEMS NO COINCIDE - NO SE RECOGE",DATA!CB3="CAJA ABIERTA Y SIN ETIQUETA","SI LOS PRODUCTOS NO COINCIDEN CON LA BOLETA NO SE RECOGE") -> SI EL PEDIDO ESTA ABIERTO - NO SE RECOGE | I3: =DATA!K3 -> 1 | J3: =CONCATENATE("L. INVERSA - ",DATA!CB3, " - RECOGER PEDIDO: ",K3," - NC: ",L3) -> L. INVERSA - CAJA SELLADA - RECOGER PEDIDO: 45388237 - NC: 6950161 | K3: =DATA!H3 -> 45388237 | L3: =A3 -> 6950161 | M3: =A3 -> 6950161
A4: =DATA!F4 -> 6950159 | B4: =CONCATENATE(DATA!P4," / ",DATA!T4) -> LUISA YAZMIN DIAZ ESPINO / 985390482 | C4: =DATA!T4 -> 985390482 | D4: =DATA!Y4 -> Jiron cangallo, 779 C - Barrios altos | E4: =DATA!X4 -> CERCADO DE LIMA | F4: =DATA!W4 -> LIMA | G4: =DATA!V4 -> LIMA | H4: =_xlfn.IFS(DATA!CB4="CAJA SELLADA","SI EL PEDIDO ESTA ABIERTO - NO SE RECOGE",DATA!CB4="CAJA ABIERTA CON GUIA DE REMISION","PRODUCTOS A RECOGER DEBEN COINCIDIR CON LA BOLETA",DATA!CB4="CAJA ABIERTA E INCOMPLETA","TOMAR FOTO DE TODO LO QUE SE RECOGE",DATA!CB4="CAJA ABIERTA - NO COINCIDE CON BOLETA","SI LA CANTIDAD DE ITEMS NO COINCIDE - NO SE RECOGE",DATA!CB4="CAJA ABIERTA Y SIN ETIQUETA","SI LOS PRODUCTOS NO COINCIDEN CON LA BOLETA NO SE RECOGE") -> SI EL PEDIDO ESTA ABIERTO - NO SE RECOGE | I4: =DATA!K4 -> 1 | J4: =CONCATENATE("L. INVERSA - ",DATA!CB4, " - RECOGER PEDIDO: ",K4," - NC: ",L4) -> L. INVERSA - CAJA SELLADA - RECOGER PEDIDO: 45390867 - NC: 6950159 | K4: =DATA!H4 -> 45390867 | L4: =A4 -> 6950159 | M4: =A4 -> 6950159

Sheet DATA
A1: Mes | B1: Fecha NC | C1: Fecha de Solicitud | D1: Quien reclama | E1: Tipo de Gestión | F1: Número NC | G1: Motivo de Devolución | H1: Código Pedido | I1: Ciclo de Marketing | J1: Modelo | K1: Cantidad de cajas | L1: Cantidad de item | M1: Valor Total | N1: Transportadora | O1: Código CB | P1: Nombre CB | Q1: Gerencia | R1: Sector | S1: Teléfono 1 | T1: Teléfono 2 | U1: Región Entrega | V1: Departamento | W1: Provincia | X1: Distrito | Y1: Dirección | Z1: Referecia | AA1: Descripción | AB1: Fecha Envío SMS | AC1: Fecha Contacto | AD1: Fecha Coordinación | AE1: Fecha Programada | AF1: Fecha Cancelado 1 | AG1: Fecha Cancelado 2 | AH1: Registro Fecha Cancelado 1 | AI1: Motivo No Contacto Cancelado 1 | AJ1: Fecha Visita 1 | AK1: Registro Fecha Visita 1 | AL1: ¿Se recogió el pedido? 1 | AM1: Tipo de Caja 1 | AN1: Cajas recogidas 1 | AO1: Fecha Almacén Transporte 1 | AP1: Registro Fecha Almacén Transporte 1 | AQ1: Fecha Devolución 1 | AR1: Guia de devolución 1 | AS1: Motivo No Recojo 1 | AT1: Observación 1 | AU1: Fecha Visita 2 | AV1: Registro Fecha Visita 2 | AW1: ¿Se recogió el pedido? 2 | AX1: Tipo de Caja 2 | AY1: Cajas recogidas 2 | AZ1: Fecha Almacén Transporte 2 | BA1: Registro Fecha Almacén Transporte 2 | BB1: Fecha Devolución 2 | BC1: Guia de devolución 2 | BD1: Motivo No Recojo 2 | BE1: Observación 2 | BF1: Fecha Visita 3 | BG1: Registro Fecha Visita 3 | BH1: ¿Se recogió el pedido? 3 | BI1: Tipo de Caja 3 | BJ1: Cajas recogidas 3 | BK1: Fecha Almacén Transporte 3 | BL1: Registro Fecha Almacén Transporte 3 | BM1: Fecha Devolución 3 | BN1: Guia de devolución 3 | BO1: Motivo No Recojo 3 | BP1: Observación 3 | BQ1: Fecha Visita 4 | BR1: Registro Fecha Visita 4 | BS1: ¿Se recogió el pedido? 4 | BT1: Tipo de Caja 4 | BU1: Cajas recogidas 4 | BV1: Fecha Almacén Transporte 4 | BW1: Registro Fecha Almacén Transporte 4 | BX1: Fecha Devolución 4 | BY1: Guia de devolución | BZ1: Motivo No Recojo 4 | CA1: Observación 4 | CB1: Observación de Solicitud de Recojo
A2: 08. Aug | B2: 20/08/2026 | C2: 21/08/2026 | D2: CN | E2: 02. Recojo | F2: 6950100 | G2: Problemas familiares/Salud/Personales | H2: 45390848 | I2: 12/2026 | J2: VD | K2: 1 | L2: 10 | M2: 919.16 | N2: 04. US | O2: 710138 | P2: MARLEN PILAR ALVAREZ BRANDO DE TOPOVICH | Q2: RIGEL | R2: GEMA | T2: 988756200 | U2: LIMA | V2: LIMA | W2: LIMA | X2: CERCADO DE LIMA | Y2: Avenida cangallo, 779 - Barrios altos | Z2: La morgue de lima | AA2: he viajado fuera del Perú a estados Unidos ya que mi hija a fallecido y debo ir a poder ver como hacer para su trámite es 1 golpe duro para mí como madre y la pena de no poder haber estado con ella en su proceso pedí a mi residencial que no reciban pero lamentablemente lo dejaron los señores de reparto con el tema que Uds me harán la devolución de la caja porque según ellos no pueden hacerlo porfavor no estoy en Perú estaré acá viendo todo de mi hija no estoy pasando 1 buen momento | CB2: CAJA SELLADA
A3: 08. Aug | B3: 21/08/2026 | C3: 22/08/2026 | D3: CN | E3: 02. Recojo | F3: 6950161 | G3: Problemas familiares/Salud/Personales | H3: 45388237 | I3: 12/2026 | J3: VD | K3: 1 | L3: 8 | M3: 1340.08 | N3: 04. US | O3: 3115719 | P3: BLANCA MARÍA TURRIATE SANCHEZ | Q3: RIGEL | R3: GEMA | T3: 983574604 | U3: LIMA | V3: LIMA | W3: LIMA | X3: CERCADO DE LIMA | Y3: Avenida cangallo, 779 - Barrios altos | Z3: Altura de la morgue de lima | AA3: La consultora Blanca Turriate Sánchez, identificada con el código 3115719 y DNI 06027707, se comunica para solicitar la devolución de su caja del Ciclo 12, la cual manifiesta que se encuentra completamente sellada e intacta. Informa que no podrá cumplir con el pago ni continuar con sus ventas debido a graves problemas de fuerza mayor relacionados con su seguridad, explicando que tuvo que cerrar su negocio porque le exigían dinero y que sus hijos la trasladaron fuera de Lima para protegerla. | CB3: CAJA SELLADA
A4: 08. Aug | B4: 21/08/2026 | C4: 22/08/2026 | D4: CN | E4: 02. Recojo | F4: 6950159 | G4: Problemas familiares/Salud/Personales | H4: 45390867 | I4: 12/2026 | J4: VD | K4: 1 | L4: 8 | M4: 947.41 | N4: 04. US | O4: 3317696 | P4: LUISA YAZMIN DIAZ ESPINO | Q4: RIGEL | R4: GEMA | T4: 985390482 | U4: LIMA | V4: LIMA | W4: LIMA | X4: CERCADO DE LIMA | Y4: Jiron cangallo, 779 C - Barrios altos | Z4: Morgue de lima | AA4: solicite pedido ciclo 12 al cual por 1 tema fuerte que estoy pasando no podré trabajar con ninguna marca me han sacado de mis labores y estoy en pleno juicio con la empresa donde estuve laborando me niegan mis pagos estoy en juicio ya que no me brindan mis derechos laborales y me dejan sin motivo desempleada porfavor no contarte para pagar y mis clientes eran mis compañeros que también han sido sacado de sus labores y no quiero hacerme deuda | CB4: CAJA SELLADA
